BEGIN:VCALENDAR
VERSION:2.0
PRODID:-//Lifefulness Meditation - ECPv6.15.20//NONSGML v1.0//EN
CALSCALE:GREGORIAN
METHOD:PUBLISH
X-WR-CALNAME:Lifefulness Meditation
X-ORIGINAL-URL:https://lifefulnessmeditation.org
X-WR-CALDESC:Events for Lifefulness Meditation
REFRESH-INTERVAL;VALUE=DURATION:PT1H
X-Robots-Tag:noindex
X-PUBLISHED-TTL:PT1H
BEGIN:VTIMEZONE
TZID:America/Chicago
BEGIN:DAYLIGHT
TZOFFSETFROM:-0600
TZOFFSETTO:-0500
TZNAME:CDT
DTSTART:20240310T080000
END:DAYLIGHT
BEGIN:STANDARD
TZOFFSETFROM:-0500
TZOFFSETTO:-0600
TZNAME:CST
DTSTART:20241103T070000
END:STANDARD
BEGIN:DAYLIGHT
TZOFFSETFROM:-0600
TZOFFSETTO:-0500
TZNAME:CDT
DTSTART:20250309T080000
END:DAYLIGHT
BEGIN:STANDARD
TZOFFSETFROM:-0500
TZOFFSETTO:-0600
TZNAME:CST
DTSTART:20251102T070000
END:STANDARD
BEGIN:DAYLIGHT
TZOFFSETFROM:-0600
TZOFFSETTO:-0500
TZNAME:CDT
DTSTART:20260308T080000
END:DAYLIGHT
BEGIN:STANDARD
TZOFFSETFROM:-0500
TZOFFSETTO:-0600
TZNAME:CST
DTSTART:20261101T070000
END:STANDARD
END:VTIMEZONE
BEGIN:VEVENT
DTSTART;TZID=America/Chicago:20251012T100000
DTEND;TZID=America/Chicago:20251012T120000
DTSTAMP:20260423T234642
CREATED:20250916T040935Z
LAST-MODIFIED:20250919T173103Z
UID:21363-1760263200-1760270400@lifefulnessmeditation.org
SUMMARY:Online Meditation Workshop (Oct 12\, 2025- 10am-12pm (US Central Time)
DESCRIPTION:Welcome! We are so glad you are here. This workshop is the beginning of a beautiful journey to Self-Realization—a state of ultimate love and complete peace.This introductory workshop is designed to give you the tools and understanding to begin your meditation practice. \nWhat You’ll Experience in this 2-hour session:\n· Understand the profound benefits of meditation for your physical\, emotional\, and spiritual well-being.\n· Learn the foundations of Breath Meditation\, including proper posture and breathing techniques.\n· Participate in two guided group meditations (5-min and 10-min sessions).\n· Explore the deeper principles of the Path of Self-Realization.\n· Get your questions answered in a dedicated Q&A and connect with others in small breakout sessions. \nWe Support Your Practice. Your practice doesn’t end when the workshop does.Your$20 registration fee ($15 early bird until Sept 30) includes not only the workshop but also ongoing support to help you build a strong\, consistent meditation habit:: \n(a) One-on-one online meditation sessions tailored to your schedule.\n(b) Interactive wisdom sessions for deeper insight.\n(c) Motivation and community support from fellow meditators. \n \n\n\n\n\nWe are a registered 501c(3) non profit organization. All contributions are not for profit and will be used to organize meditation events to help sincere meditators such as yourself to grow.
URL:https://lifefulnessmeditation.org/event/oct12/
CATEGORIES:Workshops
ORGANIZER;CN="Lifefulness Meditation":MAILTO:welcome@lifefulnessmeditation.org
END:VEVENT
END:VCALENDAR