BEGIN:VCALENDAR
VERSION:2.0
PRODID:-//Lifefulness Meditation - ECPv6.15.20//NONSGML v1.0//EN
CALSCALE:GREGORIAN
METHOD:PUBLISH
X-WR-CALNAME:Lifefulness Meditation
X-ORIGINAL-URL:https://lifefulnessmeditation.org
X-WR-CALDESC:Events for Lifefulness Meditation
REFRESH-INTERVAL;VALUE=DURATION:PT1H
X-Robots-Tag:noindex
X-PUBLISHED-TTL:PT1H
BEGIN:VTIMEZONE
TZID:UTC
BEGIN:STANDARD
TZOFFSETFROM:+0000
TZOFFSETTO:+0000
TZNAME:UTC
DTSTART:20220101T000000
END:STANDARD
END:VTIMEZONE
BEGIN:VEVENT
DTSTART;TZID=UTC:20240421T080000
DTEND;TZID=UTC:20240421T143000
DTSTAMP:20260425T102137
CREATED:20190404T170033Z
LAST-MODIFIED:20240409T205238Z
UID:18839-1713686400-1713709800@lifefulnessmeditation.org
SUMMARY:April 2024 Group Meditation (all levels/Members only)
DESCRIPTION:Content is protected.
URL:https://lifefulnessmeditation.org/event/aprilgroupmeditation/
CATEGORIES:Retreats
ORGANIZER;CN="Lifefulness Meditation":MAILTO:welcome@lifefulnessmeditation.org
END:VEVENT
BEGIN:VEVENT
DTSTART;TZID=UTC:20231022T150000
DTEND;TZID=UTC:20231119T170000
DTSTAMP:20260425T102137
CREATED:20200504T180631Z
LAST-MODIFIED:20240409T202500Z
UID:1739-1697986800-1700413200@lifefulnessmeditation.org
SUMMARY:Intro to Meditation for Kids
DESCRIPTION:A fun\, engaging and useful workshop to provide the opportunity and platform for kids (Age 8-14) to learn meditation. Conducted over the weekends\, this 4 class series teaches children the purpose and practice of meditation through examples\, demonstrations\, skits and fun exercises. In addition to breath meditation\, we introduce children to tool such as visualization\, Set Emotions Free Technique (S.E.F.T) that help with emotional regulation and mental strength.
URL:https://lifefulnessmeditation.org/event/yoga-guide-for-beginners/
CATEGORIES:Workshops
ATTACH;FMTTYPE=image/jpeg:https://lifefulnessmeditation.org/wp-content/uploads/2020/05/Lalitha-Chandran-ed811040-9aa7-4aa6-b751-d138607ad003.jpeg
ORGANIZER;CN="Lifefulness Meditation":MAILTO:welcome@lifefulnessmeditation.org
END:VEVENT
END:VCALENDAR