BEGIN:VCALENDAR
VERSION:2.0
PRODID:-//Lifefulness Meditation - ECPv6.15.20//NONSGML v1.0//EN
CALSCALE:GREGORIAN
METHOD:PUBLISH
X-WR-CALNAME:Lifefulness Meditation
X-ORIGINAL-URL:https://lifefulnessmeditation.org
X-WR-CALDESC:Events for Lifefulness Meditation
REFRESH-INTERVAL;VALUE=DURATION:PT1H
X-Robots-Tag:noindex
X-PUBLISHED-TTL:PT1H
BEGIN:VTIMEZONE
TZID:America/Chicago
BEGIN:DAYLIGHT
TZOFFSETFROM:-0600
TZOFFSETTO:-0500
TZNAME:CDT
DTSTART:20230312T080000
END:DAYLIGHT
BEGIN:STANDARD
TZOFFSETFROM:-0500
TZOFFSETTO:-0600
TZNAME:CST
DTSTART:20231105T070000
END:STANDARD
BEGIN:DAYLIGHT
TZOFFSETFROM:-0600
TZOFFSETTO:-0500
TZNAME:CDT
DTSTART:20240310T080000
END:DAYLIGHT
BEGIN:STANDARD
TZOFFSETFROM:-0500
TZOFFSETTO:-0600
TZNAME:CST
DTSTART:20241103T070000
END:STANDARD
BEGIN:DAYLIGHT
TZOFFSETFROM:-0600
TZOFFSETTO:-0500
TZNAME:CDT
DTSTART:20250309T080000
END:DAYLIGHT
BEGIN:STANDARD
TZOFFSETFROM:-0500
TZOFFSETTO:-0600
TZNAME:CST
DTSTART:20251102T070000
END:STANDARD
BEGIN:DAYLIGHT
TZOFFSETFROM:-0600
TZOFFSETTO:-0500
TZNAME:CDT
DTSTART:20260308T080000
END:DAYLIGHT
BEGIN:STANDARD
TZOFFSETFROM:-0500
TZOFFSETTO:-0600
TZNAME:CST
DTSTART:20261101T070000
END:STANDARD
END:VTIMEZONE
BEGIN:VTIMEZONE
TZID:UTC
BEGIN:STANDARD
TZOFFSETFROM:+0000
TZOFFSETTO:+0000
TZNAME:UTC
DTSTART:20220101T000000
END:STANDARD
END:VTIMEZONE
BEGIN:VEVENT
DTSTART;TZID=America/Chicago:20251012T100000
DTEND;TZID=America/Chicago:20251012T120000
DTSTAMP:20260423T223733
CREATED:20250916T040935Z
LAST-MODIFIED:20250919T173103Z
UID:21363-1760263200-1760270400@lifefulnessmeditation.org
SUMMARY:Online Meditation Workshop (Oct 12\, 2025- 10am-12pm (US Central Time)
DESCRIPTION:Welcome! We are so glad you are here. This workshop is the beginning of a beautiful journey to Self-Realization—a state of ultimate love and complete peace.This introductory workshop is designed to give you the tools and understanding to begin your meditation practice. \nWhat You’ll Experience in this 2-hour session:\n· Understand the profound benefits of meditation for your physical\, emotional\, and spiritual well-being.\n· Learn the foundations of Breath Meditation\, including proper posture and breathing techniques.\n· Participate in two guided group meditations (5-min and 10-min sessions).\n· Explore the deeper principles of the Path of Self-Realization.\n· Get your questions answered in a dedicated Q&A and connect with others in small breakout sessions. \nWe Support Your Practice. Your practice doesn’t end when the workshop does.Your$20 registration fee ($15 early bird until Sept 30) includes not only the workshop but also ongoing support to help you build a strong\, consistent meditation habit:: \n(a) One-on-one online meditation sessions tailored to your schedule.\n(b) Interactive wisdom sessions for deeper insight.\n(c) Motivation and community support from fellow meditators. \n \n\n\n\n\nWe are a registered 501c(3) non profit organization. All contributions are not for profit and will be used to organize meditation events to help sincere meditators such as yourself to grow.
URL:https://lifefulnessmeditation.org/event/oct12/
CATEGORIES:Workshops
ORGANIZER;CN="Lifefulness Meditation":MAILTO:welcome@lifefulnessmeditation.org
END:VEVENT
BEGIN:VEVENT
DTSTART;TZID=America/Chicago:20250105T100000
DTEND;TZID=America/Chicago:20250105T120000
DTSTAMP:20260423T223733
CREATED:20241123T232131Z
LAST-MODIFIED:20250107T010101Z
UID:21304-1736071200-1736078400@lifefulnessmeditation.org
SUMMARY:Online Meditation Workshop (Jan 5\, 2025- 10am-12pm (US Central Time)
DESCRIPTION:Welcome to the Path of Self-Realization and inner transformation! \nLooking to build a foundation of good health? To transform yourself to be fully happy and free? To resolve your deepest questions about life? \nIn this 2hr introduction workshop\, You will learn a life-transforming meditation on breath technique that will help you begin this great inner journey. We will share the correct  breathing rhythm & posture and share useful tips that will make a difference in your meditation. We will then meditate together and end the session with Q&A. \nThe path of meditation will reveal to you your most natural state of being on the inside that is beyond all action\, movement and change – a state of ultimate love and complete peace.\nThis meditation/Path is taught all over the world to anyone desiring to begin the inner journey to explore and discover our vast hidden storehouse of inner potential for everlasting inner peace and happiness. We encourage you to watch this wonderful testimonial from Diane Krief \nThe workshop is just a start of your inner journey. It is the practice that counts. If you decide to try out the meditation technique after the workshop\, we will provide all the support you need until your practice becomes strong: \n(a) 1-1 meditation online sessions with one of our meditators at your convenient pace and schedule.\n(b) Interactive 1-1 wisdom sessions for insights to meditate on.\n(c) Support and motivation from our meditation community. \nWe collect a nominal fee of $20/person ($15 for early registration- by Dec 31\, 11.59pm). The fees include both workshop and post workshop support.  \nWe are a registered 501c(3) non profit organization. All contributions are not for profit and will be used to organize meditation events to help sincere meditators such as yourself to grow. \nCome along\, unwind – learn to relax deeply\, and enjoy new techniques and experience the immediate effects of meditation. A great way to rejuvenate yourself\, whatever your current experience of meditation. \nLocation: Online on Zoom. Upon registration\, you will be directed to zoom registration page. \n\nA wonderful testimonial from Diane Krief \nI started meditating over 30 years ago on this Path. I had tried other types of meditation before and experienced nothing more than just relaxation. So\, here was a defined journey with a discrete number of steps\, which could take you to the ultimate state of consciousness\, and all I had to do was to try it for 6 months and then experience the first step for myself. No cult. No catches. I tried it. It delivered. And it delivered far more than I could ever have thought off…”- Jy\, California \nIn my journey of seeking the truth\, I have realized that they are things mind cannot provide solutions. Meditation makes mind still and creates the presence of higher awareness. With this\, life has been manageable and nothing scares me!- Miriam\, Washington \nIn my quest to discover True Self\, I found comfort in the simplicity of this Meditation technique. This Path is a life-changing gift\, and I wholeheartedly recommend it to anyone on a journey to discover a profound and fulfilling expedition within! – Raj\, Texas \n 
URL:https://lifefulnessmeditation.org/event/jan5/
CATEGORIES:Workshops
ORGANIZER;CN="Lifefulness Meditation":MAILTO:welcome@lifefulnessmeditation.org
END:VEVENT
BEGIN:VEVENT
DTSTART;TZID=UTC:20241215T080000
DTEND;TZID=UTC:20241215T143000
DTSTAMP:20260423T223733
CREATED:20240503T200958Z
LAST-MODIFIED:20240503T200958Z
UID:21094-1734249600-1734273000@lifefulnessmeditation.org
SUMMARY:December 2024 Group Meditation (all levels/Members only)
DESCRIPTION:Content is protected.
URL:https://lifefulnessmeditation.org/event/december-2024-group-meditation-all-levels-members-only/
CATEGORIES:Retreats
ORGANIZER;CN="Lifefulness Meditation":MAILTO:welcome@lifefulnessmeditation.org
END:VEVENT
BEGIN:VEVENT
DTSTART;TZID=UTC:20241117T080000
DTEND;TZID=UTC:20241117T143000
DTSTAMP:20260423T223733
CREATED:20240503T200924Z
LAST-MODIFIED:20240503T200924Z
UID:21095-1731830400-1731853800@lifefulnessmeditation.org
SUMMARY:November 2024 Group Meditation (all levels/Members only)
DESCRIPTION:Content is protected.
URL:https://lifefulnessmeditation.org/event/november-2024-group-meditation-all-levels-members-only/
CATEGORIES:Retreats
ORGANIZER;CN="Lifefulness Meditation":MAILTO:welcome@lifefulnessmeditation.org
END:VEVENT
BEGIN:VEVENT
DTSTART;TZID=America/Chicago:20241026T103000
DTEND;TZID=America/Chicago:20241026T123000
DTSTAMP:20260423T223733
CREATED:20240928T184115Z
LAST-MODIFIED:20241027T171915Z
UID:21166-1729938600-1729945800@lifefulnessmeditation.org
SUMMARY:Online Meditation Workshop (Oct 26\, 2024- 10.30-12.30pm (US Central Time)
DESCRIPTION:Welcome to the Path of Self-Realization and inner transformation! \nLooking to build a foundation of good health? To transform yourself to be fully happy and free? To resolve your deepest questions about life? \nThe path of meditation will reveal to you your most natural state of being on the inside that is beyond all action\, movement and change – a state of ultimate love and complete peace. This meditation/Path is taught all over the world to anyone desiring to begin the inner journey to explore and discover our vast hidden storehouse of inner potential for everlasting inner peace and happiness. We encourage you to watch this wonderful testimonial from Diane Krief . \nIn this 2hr introduction workshop\, You will learn a life-transforming meditation on breath technique that will help you begin this great inner journey. We will share the correct  breathing rhythm & posture and share useful tips that will make a difference in your meditation. We will then meditate together and end the session with Q&A. \n\nThe workshop is just a start of your inner journey. It is the practice that counts. If you decide to try out the meditation technique after the workshop\, we will provide all the support you need until your practice becomes strong: \n(a) 1-1 meditation online sessions with one of our meditators at your convenient pace and schedule.\n(b) Interactive 1-1 wisdom sessions for insights to meditate on.\n(c) Support and motivation from our meditation community. \nWe collect a nominal fee of $20/person ($15 for early registration- by Oct 20\, 11.59pm). The fees include both workshop and post workshop support.  \nWe are a registered 501c(3) non profit organization. All contributions are not for profit and will be used to organize meditation events to help sincere meditators such as yourself to grow. \nCome along\, unwind – learn to relax deeply\, and enjoy new techniques and experience the immediate effects of meditation. A great way to rejuvenate yourself\, whatever your current experience of meditation. \nLocation: Online on Zoom. Upon registration\, you will be directed to zoom registration page. \n\n  \nA wonderful testimonial from Diane Krief \nI started meditating over 30 years ago on this Path. I had tried other types of meditation before and experienced nothing more than just relaxation. So\, here was a defined journey with a discrete number of steps\, which could take you to the ultimate state of consciousness\, and all I had to do was to try it for 6 months and then experience the first step for myself. No cult. No catches. I tried it. It delivered. And it delivered far more than I could ever have thought off…”- Jy\, California \nIn my journey of seeking the truth\, I have realized that they are things mind cannot provide solutions. Meditation makes mind still and creates the presence of higher awareness. With this\, life has been manageable and nothing scares me!- Miriam\, Washington \nIn my quest to discover True Self\, I found comfort in the simplicity of this Meditation technique. This Path is a life-changing gift\, and I wholeheartedly recommend it to anyone on a journey to discover a profound and fulfilling expedition within! – Raj\, Texas
URL:https://lifefulnessmeditation.org/event/oct-26/
CATEGORIES:Workshops
ORGANIZER;CN="Lifefulness Meditation":MAILTO:welcome@lifefulnessmeditation.org
END:VEVENT
BEGIN:VEVENT
DTSTART;TZID=UTC:20241020T080000
DTEND;TZID=UTC:20241020T143000
DTSTAMP:20260423T223733
CREATED:20240503T200847Z
LAST-MODIFIED:20240503T200847Z
UID:21096-1729411200-1729434600@lifefulnessmeditation.org
SUMMARY:October 2024 Group Meditation (all levels/Members only)
DESCRIPTION:Content is protected.
URL:https://lifefulnessmeditation.org/event/october-2024-group-meditation-all-levels-members-only/
CATEGORIES:Retreats
ORGANIZER;CN="Lifefulness Meditation":MAILTO:welcome@lifefulnessmeditation.org
END:VEVENT
BEGIN:VEVENT
DTSTART;TZID=UTC:20240922T080000
DTEND;TZID=UTC:20240922T143000
DTSTAMP:20260423T223733
CREATED:20240503T200811Z
LAST-MODIFIED:20240503T200811Z
UID:21097-1726992000-1727015400@lifefulnessmeditation.org
SUMMARY:September 2024 Group Meditation (all levels/Members only)
DESCRIPTION:Content is protected.
URL:https://lifefulnessmeditation.org/event/september-2024-group-meditation-all-levels-members-only/
CATEGORIES:Retreats
ORGANIZER;CN="Lifefulness Meditation":MAILTO:welcome@lifefulnessmeditation.org
END:VEVENT
BEGIN:VEVENT
DTSTART;TZID=UTC:20240818T080000
DTEND;TZID=UTC:20240818T143000
DTSTAMP:20260423T223733
CREATED:20240503T200707Z
LAST-MODIFIED:20240503T200707Z
UID:21086-1723968000-1723991400@lifefulnessmeditation.org
SUMMARY:August 2024 Group Meditation (all levels/Members only)
DESCRIPTION:Content is protected.
URL:https://lifefulnessmeditation.org/event/august-2024-group-meditation-all-levels-members-only/
CATEGORIES:Retreats
ORGANIZER;CN="Lifefulness Meditation":MAILTO:welcome@lifefulnessmeditation.org
END:VEVENT
BEGIN:VEVENT
DTSTART;TZID=UTC:20240721T080000
DTEND;TZID=UTC:20240721T143000
DTSTAMP:20260423T223733
CREATED:20240503T200624Z
LAST-MODIFIED:20240503T200624Z
UID:21087-1721548800-1721572200@lifefulnessmeditation.org
SUMMARY:July 2024 Group Meditation (all levels/Members only)
DESCRIPTION:Content is protected.
URL:https://lifefulnessmeditation.org/event/july-2024-group-meditation-all-levels-members-only/
CATEGORIES:Retreats
ORGANIZER;CN="Lifefulness Meditation":MAILTO:welcome@lifefulnessmeditation.org
END:VEVENT
BEGIN:VEVENT
DTSTART;TZID=America/Chicago:20240720T100000
DTEND;TZID=America/Chicago:20240720T113000
DTSTAMP:20260423T223733
CREATED:20240628T230026Z
LAST-MODIFIED:20240723T014839Z
UID:21109-1721469600-1721475000@lifefulnessmeditation.org
SUMMARY:Online Meditation Workshop (July 20\, 2024- 10-11.30am (US Central Time)
DESCRIPTION:Welcome to the Path of Self-Realization and inner transformation! \nLooking to build a foundation of good health? To transform yourself to be fully happy and free? To resolve your deepest questions about life? \nThe path of meditation will reveal to you your most natural state of being on the inside that is beyond all action\, movement and change – a state of ultimate love and complete peace. This meditation/Path is taught all over the world to anyone desiring to begin the inner journey to explore and discover our vast hidden storehouse of inner potential for everlasting inner peace and happiness. \nIn this 90 min introduction workshop\, You will learn a life-transforming meditation on breath technique that will help you begin this great inner journey. We will share the correct  breathing rhythm & posture and share useful tips that will make a difference in your meditation. We will then meditate together and end the session with Q&A.\nThe workshop is just a start of your inner journey. It is the practice that counts. If you decide to try out the meditation technique after the workshop\, we will provide all the support you need until your practice becomes strong:\n (a) 1-1 meditation online sessions with one of our meditators at your convenient pace and schedule.\n (b) Interactive 1-1 wisdom sessions for insights to meditate on.\n (c) Support and motivation from our meditation community. \nWe collect a nominal fees of $15/person ($10 for early registration- by July 13\, 11.59pm). The fees include both workshop and post workshop support.  \nAll contributions are not for profit and will be used to organize meditation events to help sincere meditators such as yourself to grow. \nCome along\, unwind – learn to relax deeply\, and enjoy new techniques and experience the immediate effects of meditation. A great way to rejuvenate yourself\, whatever your current experience of meditation. \nLocation: Online on Zoom. Upon registration\, you will be directed to zoom registration page. \nDate/time does not work for you? We regularly conduct both virtual and in-locations workshops – please provide some basic information and we will be sure to contact you ahead of a workshop that will fit your location and date/time preference. \n\nI started meditating over 30 years ago on this Path. I had tried other types of meditation before and experienced nothing more than just relaxation. So\, here was a defined journey with a discrete number of steps\, which could take you to the ultimate state of consciousness\, and all I had to do was to try it for 6 months and then experience the first step for myself. No cult. No catches. I tried it. It delivered. And it delivered far more than I could ever have thought off…”- Jy\, California\n\n\nIn my journey of seeking the truth\, I have realized that they are things mind cannot provide solutions. Meditation makes mind still and creates the presence of higher awareness. With this\, life has been manageable and nothing scares me!- Miriam\, Washington\n\n\nIn my quest to discover True Self\, I found comfort in the simplicity of this Meditation technique. This Path is a life-changing gift\, and I wholeheartedly recommend it to anyone on a journey to discover a profound and fulfilling expedition within! – Raj\, Texas
URL:https://lifefulnessmeditation.org/event/july20/
CATEGORIES:Workshops
ATTACH;FMTTYPE=image/png:https://lifefulnessmeditation.org/wp-content/uploads/2024/06/Lifefulness-Meditation-July20-Banner-1-e1719769716129.png
ORGANIZER;CN="Lifefulness Meditation":MAILTO:welcome@lifefulnessmeditation.org
END:VEVENT
BEGIN:VEVENT
DTSTART;TZID=UTC:20240623T080000
DTEND;TZID=UTC:20240623T143000
DTSTAMP:20260423T223733
CREATED:20240503T200541Z
LAST-MODIFIED:20240503T200541Z
UID:21088-1719129600-1719153000@lifefulnessmeditation.org
SUMMARY:Jun 2024 Group Meditation (all levels/Members only)
DESCRIPTION:Content is protected.
URL:https://lifefulnessmeditation.org/event/jun-2024-group-meditation-all-levels-members-only/
CATEGORIES:Retreats
ORGANIZER;CN="Lifefulness Meditation":MAILTO:welcome@lifefulnessmeditation.org
END:VEVENT
BEGIN:VEVENT
DTSTART;TZID=UTC:20240519T080000
DTEND;TZID=UTC:20240519T143000
DTSTAMP:20260423T223733
CREATED:20240503T200459Z
LAST-MODIFIED:20240503T200459Z
UID:21089-1716105600-1716129000@lifefulnessmeditation.org
SUMMARY:May 2024 Group Meditation (all levels/Members only)
DESCRIPTION:Content is protected.
URL:https://lifefulnessmeditation.org/event/may-2024-group-meditation-all-levels-members-only/
CATEGORIES:Retreats
ORGANIZER;CN="Lifefulness Meditation":MAILTO:welcome@lifefulnessmeditation.org
END:VEVENT
BEGIN:VEVENT
DTSTART;TZID=UTC:20240511T110000
DTEND;TZID=UTC:20240511T123000
DTSTAMP:20260423T223733
CREATED:20210928T092004Z
LAST-MODIFIED:20240503T201051Z
UID:18833-1715425200-1715430600@lifefulnessmeditation.org
SUMMARY:Meditation Workshop (May 11- 11am-12.30pm| Frisco\, TX)
DESCRIPTION:The purpose of the beginner meditation workshop is to allow participants to experience the immediate effects of meditation. Come along\, unwind – learn to relax deeply\, and enjoy new techniques and a few hours in the company of like-minded people. A great way to rejuvenate yourself\, whatever your current experience of meditation. \n\nLearn powerful meditation techniques for helping self-development.\nExperience different meditation techniques as you learn to increase your awareness inside.\nExperience guided meditations\, breath meditation\, focus meditations.\nAnd much much more…\n\nWe collect a nominal contribution of $10/person ($5 for early registration- by May 4\, 11.59pm) at the venue on the day of the event to help us cover the cost of organizing the event and other future events. \nLocation: Soul Arts and Events | 4681 Ohio Dr STE 106\, Frisco\, TX 75035 \nPlease register to reserve your seat.  Location/date/time does not work for you? We regularly conduct both virtual and in-locations workshops – please provide some basic information and we will be sure to contact you ahead of a workshop that will fit your location and date/time preference. \nLoading…
URL:https://lifefulnessmeditation.org/event/may11/
CATEGORIES:Workshops
ATTACH;FMTTYPE=image/jpeg:https://lifefulnessmeditation.org/wp-content/uploads/2024/03/a-journey-of-a-thousand-miles-begins-with-a-single-step-lettering-quote.jpg
ORGANIZER;CN="Lifefulness Meditation":MAILTO:welcome@lifefulnessmeditation.org
END:VEVENT
BEGIN:VEVENT
DTSTART;TZID=UTC:20240421T080000
DTEND;TZID=UTC:20240421T143000
DTSTAMP:20260423T223733
CREATED:20190404T170033Z
LAST-MODIFIED:20240409T205238Z
UID:18839-1713686400-1713709800@lifefulnessmeditation.org
SUMMARY:April 2024 Group Meditation (all levels/Members only)
DESCRIPTION:Content is protected.
URL:https://lifefulnessmeditation.org/event/aprilgroupmeditation/
CATEGORIES:Retreats
ORGANIZER;CN="Lifefulness Meditation":MAILTO:welcome@lifefulnessmeditation.org
END:VEVENT
BEGIN:VEVENT
DTSTART;TZID=UTC:20231022T150000
DTEND;TZID=UTC:20231119T170000
DTSTAMP:20260423T223733
CREATED:20200504T180631Z
LAST-MODIFIED:20240409T202500Z
UID:1739-1697986800-1700413200@lifefulnessmeditation.org
SUMMARY:Intro to Meditation for Kids
DESCRIPTION:A fun\, engaging and useful workshop to provide the opportunity and platform for kids (Age 8-14) to learn meditation. Conducted over the weekends\, this 4 class series teaches children the purpose and practice of meditation through examples\, demonstrations\, skits and fun exercises. In addition to breath meditation\, we introduce children to tool such as visualization\, Set Emotions Free Technique (S.E.F.T) that help with emotional regulation and mental strength.
URL:https://lifefulnessmeditation.org/event/yoga-guide-for-beginners/
CATEGORIES:Workshops
ATTACH;FMTTYPE=image/jpeg:https://lifefulnessmeditation.org/wp-content/uploads/2020/05/Lalitha-Chandran-ed811040-9aa7-4aa6-b751-d138607ad003.jpeg
ORGANIZER;CN="Lifefulness Meditation":MAILTO:welcome@lifefulnessmeditation.org
END:VEVENT
END:VCALENDAR