BEGIN:VCALENDAR
VERSION:2.0
PRODID:-//Lifefulness Meditation - ECPv6.15.20//NONSGML v1.0//EN
CALSCALE:GREGORIAN
METHOD:PUBLISH
X-WR-CALNAME:Lifefulness Meditation
X-ORIGINAL-URL:https://lifefulnessmeditation.org
X-WR-CALDESC:Events for Lifefulness Meditation
REFRESH-INTERVAL;VALUE=DURATION:PT1H
X-Robots-Tag:noindex
X-PUBLISHED-TTL:PT1H
BEGIN:VTIMEZONE
TZID:UTC
BEGIN:STANDARD
TZOFFSETFROM:+0000
TZOFFSETTO:+0000
TZNAME:UTC
DTSTART:20230101T000000
END:STANDARD
END:VTIMEZONE
BEGIN:VTIMEZONE
TZID:America/Chicago
BEGIN:DAYLIGHT
TZOFFSETFROM:-0600
TZOFFSETTO:-0500
TZNAME:CDT
DTSTART:20240310T080000
END:DAYLIGHT
BEGIN:STANDARD
TZOFFSETFROM:-0500
TZOFFSETTO:-0600
TZNAME:CST
DTSTART:20241103T070000
END:STANDARD
BEGIN:DAYLIGHT
TZOFFSETFROM:-0600
TZOFFSETTO:-0500
TZNAME:CDT
DTSTART:20250309T080000
END:DAYLIGHT
BEGIN:STANDARD
TZOFFSETFROM:-0500
TZOFFSETTO:-0600
TZNAME:CST
DTSTART:20251102T070000
END:STANDARD
BEGIN:DAYLIGHT
TZOFFSETFROM:-0600
TZOFFSETTO:-0500
TZNAME:CDT
DTSTART:20260308T080000
END:DAYLIGHT
BEGIN:STANDARD
TZOFFSETFROM:-0500
TZOFFSETTO:-0600
TZNAME:CST
DTSTART:20261101T070000
END:STANDARD
BEGIN:DAYLIGHT
TZOFFSETFROM:-0600
TZOFFSETTO:-0500
TZNAME:CDT
DTSTART:20270314T080000
END:DAYLIGHT
BEGIN:STANDARD
TZOFFSETFROM:-0500
TZOFFSETTO:-0600
TZNAME:CST
DTSTART:20271107T070000
END:STANDARD
END:VTIMEZONE
BEGIN:VEVENT
DTSTART;TZID=UTC:20241215T080000
DTEND;TZID=UTC:20241215T143000
DTSTAMP:20260425T133751
CREATED:20240503T200958Z
LAST-MODIFIED:20240503T200958Z
UID:21094-1734249600-1734273000@lifefulnessmeditation.org
SUMMARY:December 2024 Group Meditation (all levels/Members only)
DESCRIPTION:Content is protected.
URL:https://lifefulnessmeditation.org/event/december-2024-group-meditation-all-levels-members-only/
CATEGORIES:Retreats
ORGANIZER;CN="Lifefulness Meditation":MAILTO:welcome@lifefulnessmeditation.org
END:VEVENT
BEGIN:VEVENT
DTSTART;TZID=America/Chicago:20250105T100000
DTEND;TZID=America/Chicago:20250105T120000
DTSTAMP:20260425T133751
CREATED:20241123T232131Z
LAST-MODIFIED:20250107T010101Z
UID:21304-1736071200-1736078400@lifefulnessmeditation.org
SUMMARY:Online Meditation Workshop (Jan 5\, 2025- 10am-12pm (US Central Time)
DESCRIPTION:Welcome to the Path of Self-Realization and inner transformation! \nLooking to build a foundation of good health? To transform yourself to be fully happy and free? To resolve your deepest questions about life? \nIn this 2hr introduction workshop\, You will learn a life-transforming meditation on breath technique that will help you begin this great inner journey. We will share the correct  breathing rhythm & posture and share useful tips that will make a difference in your meditation. We will then meditate together and end the session with Q&A. \nThe path of meditation will reveal to you your most natural state of being on the inside that is beyond all action\, movement and change – a state of ultimate love and complete peace.\nThis meditation/Path is taught all over the world to anyone desiring to begin the inner journey to explore and discover our vast hidden storehouse of inner potential for everlasting inner peace and happiness. We encourage you to watch this wonderful testimonial from Diane Krief \nThe workshop is just a start of your inner journey. It is the practice that counts. If you decide to try out the meditation technique after the workshop\, we will provide all the support you need until your practice becomes strong: \n(a) 1-1 meditation online sessions with one of our meditators at your convenient pace and schedule.\n(b) Interactive 1-1 wisdom sessions for insights to meditate on.\n(c) Support and motivation from our meditation community. \nWe collect a nominal fee of $20/person ($15 for early registration- by Dec 31\, 11.59pm). The fees include both workshop and post workshop support.  \nWe are a registered 501c(3) non profit organization. All contributions are not for profit and will be used to organize meditation events to help sincere meditators such as yourself to grow. \nCome along\, unwind – learn to relax deeply\, and enjoy new techniques and experience the immediate effects of meditation. A great way to rejuvenate yourself\, whatever your current experience of meditation. \nLocation: Online on Zoom. Upon registration\, you will be directed to zoom registration page. \n\nA wonderful testimonial from Diane Krief \nI started meditating over 30 years ago on this Path. I had tried other types of meditation before and experienced nothing more than just relaxation. So\, here was a defined journey with a discrete number of steps\, which could take you to the ultimate state of consciousness\, and all I had to do was to try it for 6 months and then experience the first step for myself. No cult. No catches. I tried it. It delivered. And it delivered far more than I could ever have thought off…”- Jy\, California \nIn my journey of seeking the truth\, I have realized that they are things mind cannot provide solutions. Meditation makes mind still and creates the presence of higher awareness. With this\, life has been manageable and nothing scares me!- Miriam\, Washington \nIn my quest to discover True Self\, I found comfort in the simplicity of this Meditation technique. This Path is a life-changing gift\, and I wholeheartedly recommend it to anyone on a journey to discover a profound and fulfilling expedition within! – Raj\, Texas \n 
URL:https://lifefulnessmeditation.org/event/jan5/
CATEGORIES:Workshops
ORGANIZER;CN="Lifefulness Meditation":MAILTO:welcome@lifefulnessmeditation.org
END:VEVENT
BEGIN:VEVENT
DTSTART;TZID=America/Chicago:20251012T100000
DTEND;TZID=America/Chicago:20251012T120000
DTSTAMP:20260425T133751
CREATED:20250916T040935Z
LAST-MODIFIED:20250919T173103Z
UID:21363-1760263200-1760270400@lifefulnessmeditation.org
SUMMARY:Online Meditation Workshop (Oct 12\, 2025- 10am-12pm (US Central Time)
DESCRIPTION:Welcome! We are so glad you are here. This workshop is the beginning of a beautiful journey to Self-Realization—a state of ultimate love and complete peace.This introductory workshop is designed to give you the tools and understanding to begin your meditation practice. \nWhat You’ll Experience in this 2-hour session:\n· Understand the profound benefits of meditation for your physical\, emotional\, and spiritual well-being.\n· Learn the foundations of Breath Meditation\, including proper posture and breathing techniques.\n· Participate in two guided group meditations (5-min and 10-min sessions).\n· Explore the deeper principles of the Path of Self-Realization.\n· Get your questions answered in a dedicated Q&A and connect with others in small breakout sessions. \nWe Support Your Practice. Your practice doesn’t end when the workshop does.Your$20 registration fee ($15 early bird until Sept 30) includes not only the workshop but also ongoing support to help you build a strong\, consistent meditation habit:: \n(a) One-on-one online meditation sessions tailored to your schedule.\n(b) Interactive wisdom sessions for deeper insight.\n(c) Motivation and community support from fellow meditators. \n \n\n\n\n\nWe are a registered 501c(3) non profit organization. All contributions are not for profit and will be used to organize meditation events to help sincere meditators such as yourself to grow.
URL:https://lifefulnessmeditation.org/event/oct12/
CATEGORIES:Workshops
ORGANIZER;CN="Lifefulness Meditation":MAILTO:welcome@lifefulnessmeditation.org
END:VEVENT
BEGIN:VEVENT
DTSTART;TZID=America/Chicago:20260510T100000
DTEND;TZID=America/Chicago:20260510T120000
DTSTAMP:20260425T133751
CREATED:20260406T103017Z
LAST-MODIFIED:20260409T145951Z
UID:21609-1778407200-1778414400@lifefulnessmeditation.org
SUMMARY:Introduction Workshop  - PSG Exclusive
DESCRIPTION:Dear PSG Alumni and Family\, \nWe warmly invite you to explore the path of self-realization—exclusively for PSG Tech alumni and families. \nRegister Today \nSeeking better health\, inner peace\, or answers within? \nIn this 90-minute introductory session\, learn a simple breath-based meditation\, along with the right posture and rhythm to begin your inner journey. Experience a guided meditation and interactive Q&A. \nThe workshop is just a start of your inner journey. It is the practice that counts. If you decide to try out the meditation technique after the workshop\, we will provide all the support you need until your practice becomes strong: \n(a) 1-1 meditation online sessions with one of our meditators at your convenient pace and schedule.\n(b) Interactive 1-1 wisdom sessions for insights to meditate on.\n(c) Support and motivation from our meditation community. \nJoin us to pause\, relax deeply\, and experience the calming effects of meditation from the comfort of your home. \nThe path of meditation will reveal to you your most natural state of being on the inside that is beyond all action\, movement and change – a state of ultimate love and complete peace.\n  \nRegister Today\n  \nI started meditating over 30 years ago on this Path. I had tried other types of meditation before and experienced nothing more than just relaxation. So\, here was a defined journey with a discrete number of steps\, which could take you to the ultimate state of consciousness\, and all I had to do was to try it for 6 months and then experience the first step for myself. No cult. No catches. I tried it. It delivered. And it delivered far more than I could ever have thought off…”- Jy\, California \nIn my journey of seeking the truth\, I have realized that they are things mind cannot provide solutions. Meditation makes mind still and creates the presence of higher awareness. With this\, life has been manageable and nothing scares me!- Miriam\, Washington \nIn my quest to discover True Self\, I found comfort in the simplicity of this Meditation technique. This Path is a life-changing gift\, and I wholeheartedly recommend it to anyone on a journey to discover a profound and fulfilling expedition within! – Raj\, Texas \n  \nRegister Today
URL:https://lifefulnessmeditation.org/event/psg-meditation-workshop/
CATEGORIES:Workshops
ATTACH;FMTTYPE=image/jpeg:https://lifefulnessmeditation.org/wp-content/uploads/2026/04/PSG-Registration-Page-Hero-v2-e1775741644886.jpg
ORGANIZER;CN="Lifefulness Meditation":MAILTO:welcome@lifefulnessmeditation.org
END:VEVENT
END:VCALENDAR