BEGIN:VCALENDAR
VERSION:2.0
PRODID:-//Lifefulness Meditation - ECPv6.15.20//NONSGML v1.0//EN
CALSCALE:GREGORIAN
METHOD:PUBLISH
X-WR-CALNAME:Lifefulness Meditation
X-ORIGINAL-URL:https://lifefulnessmeditation.org
X-WR-CALDESC:Events for Lifefulness Meditation
REFRESH-INTERVAL;VALUE=DURATION:PT1H
X-Robots-Tag:noindex
X-PUBLISHED-TTL:PT1H
BEGIN:VTIMEZONE
TZID:UTC
BEGIN:STANDARD
TZOFFSETFROM:+0000
TZOFFSETTO:+0000
TZNAME:UTC
DTSTART:20230101T000000
END:STANDARD
END:VTIMEZONE
BEGIN:VTIMEZONE
TZID:America/Chicago
BEGIN:DAYLIGHT
TZOFFSETFROM:-0600
TZOFFSETTO:-0500
TZNAME:CDT
DTSTART:20230312T080000
END:DAYLIGHT
BEGIN:STANDARD
TZOFFSETFROM:-0500
TZOFFSETTO:-0600
TZNAME:CST
DTSTART:20231105T070000
END:STANDARD
BEGIN:DAYLIGHT
TZOFFSETFROM:-0600
TZOFFSETTO:-0500
TZNAME:CDT
DTSTART:20240310T080000
END:DAYLIGHT
BEGIN:STANDARD
TZOFFSETFROM:-0500
TZOFFSETTO:-0600
TZNAME:CST
DTSTART:20241103T070000
END:STANDARD
BEGIN:DAYLIGHT
TZOFFSETFROM:-0600
TZOFFSETTO:-0500
TZNAME:CDT
DTSTART:20250309T080000
END:DAYLIGHT
BEGIN:STANDARD
TZOFFSETFROM:-0500
TZOFFSETTO:-0600
TZNAME:CST
DTSTART:20251102T070000
END:STANDARD
END:VTIMEZONE
BEGIN:VEVENT
DTSTART;TZID=UTC:20241020T080000
DTEND;TZID=UTC:20241020T143000
DTSTAMP:20260424T160549
CREATED:20240503T200847Z
LAST-MODIFIED:20240503T200847Z
UID:21096-1729411200-1729434600@lifefulnessmeditation.org
SUMMARY:October 2024 Group Meditation (all levels/Members only)
DESCRIPTION:Content is protected.
URL:https://lifefulnessmeditation.org/event/october-2024-group-meditation-all-levels-members-only/
CATEGORIES:Retreats
ORGANIZER;CN="Lifefulness Meditation":MAILTO:welcome@lifefulnessmeditation.org
END:VEVENT
BEGIN:VEVENT
DTSTART;TZID=America/Chicago:20241026T103000
DTEND;TZID=America/Chicago:20241026T123000
DTSTAMP:20260424T160549
CREATED:20240928T184115Z
LAST-MODIFIED:20241027T171915Z
UID:21166-1729938600-1729945800@lifefulnessmeditation.org
SUMMARY:Online Meditation Workshop (Oct 26\, 2024- 10.30-12.30pm (US Central Time)
DESCRIPTION:Welcome to the Path of Self-Realization and inner transformation! \nLooking to build a foundation of good health? To transform yourself to be fully happy and free? To resolve your deepest questions about life? \nThe path of meditation will reveal to you your most natural state of being on the inside that is beyond all action\, movement and change – a state of ultimate love and complete peace. This meditation/Path is taught all over the world to anyone desiring to begin the inner journey to explore and discover our vast hidden storehouse of inner potential for everlasting inner peace and happiness. We encourage you to watch this wonderful testimonial from Diane Krief . \nIn this 2hr introduction workshop\, You will learn a life-transforming meditation on breath technique that will help you begin this great inner journey. We will share the correct  breathing rhythm & posture and share useful tips that will make a difference in your meditation. We will then meditate together and end the session with Q&A. \n\nThe workshop is just a start of your inner journey. It is the practice that counts. If you decide to try out the meditation technique after the workshop\, we will provide all the support you need until your practice becomes strong: \n(a) 1-1 meditation online sessions with one of our meditators at your convenient pace and schedule.\n(b) Interactive 1-1 wisdom sessions for insights to meditate on.\n(c) Support and motivation from our meditation community. \nWe collect a nominal fee of $20/person ($15 for early registration- by Oct 20\, 11.59pm). The fees include both workshop and post workshop support.  \nWe are a registered 501c(3) non profit organization. All contributions are not for profit and will be used to organize meditation events to help sincere meditators such as yourself to grow. \nCome along\, unwind – learn to relax deeply\, and enjoy new techniques and experience the immediate effects of meditation. A great way to rejuvenate yourself\, whatever your current experience of meditation. \nLocation: Online on Zoom. Upon registration\, you will be directed to zoom registration page. \n\n  \nA wonderful testimonial from Diane Krief \nI started meditating over 30 years ago on this Path. I had tried other types of meditation before and experienced nothing more than just relaxation. So\, here was a defined journey with a discrete number of steps\, which could take you to the ultimate state of consciousness\, and all I had to do was to try it for 6 months and then experience the first step for myself. No cult. No catches. I tried it. It delivered. And it delivered far more than I could ever have thought off…”- Jy\, California \nIn my journey of seeking the truth\, I have realized that they are things mind cannot provide solutions. Meditation makes mind still and creates the presence of higher awareness. With this\, life has been manageable and nothing scares me!- Miriam\, Washington \nIn my quest to discover True Self\, I found comfort in the simplicity of this Meditation technique. This Path is a life-changing gift\, and I wholeheartedly recommend it to anyone on a journey to discover a profound and fulfilling expedition within! – Raj\, Texas
URL:https://lifefulnessmeditation.org/event/oct-26/
CATEGORIES:Workshops
ORGANIZER;CN="Lifefulness Meditation":MAILTO:welcome@lifefulnessmeditation.org
END:VEVENT
END:VCALENDAR